BEGIN:VCALENDAR
PRODID:-//Cornell Cooperative Extension of Monroe County//NONSGML Cornell Cooperative Extension of Monroe County Events//EN
X-ORIGINAL-URL:
VERSION:2.0
CALSCALE:GREGORIAN
METHOD:PUBLISH
BEGIN:VEVENT
METHOD: PUBLISH
X-MS-OLK-FORCEINSPECTOROPEN:TRUE
DTSTART:20260425T130100
DTEND:20260425T140200
SUMMARY:Plastics and Microplastics Awareness &amp; Action
DTSTAMP:20110121T170000
LAST-MODIFIED:20260424T090944
CREATED:20260417T140241
SEQUENCE:0
TRANSP:TRANSPARENT
UID:32957
LOCATION:
URL:http://monroe.cce.cornell.edu/events/2026/04/25/plastics-and-microplastics-awareness-action
DESCRIPTION:Plastic is everywhere… even where we can’t see it. Join us for a workshop on plastics and microplastics at the Mendon Public Library and discover how everyday choices impact our environment and health. Walk away with simple, realistic ways to reduce plastic use at home.
CLASS:PUBLIC
CATEGORIES:
STATUS:CONFIRMED
END:VEVENT
END:VCALENDAR
n/a